BEGIN:VCALENDAR
VERSION:2.0
PRODID:-//Wilhelm Kuehs - ECPv6.15.18//NONSGML v1.0//EN
CALSCALE:GREGORIAN
METHOD:PUBLISH
X-WR-CALNAME:Wilhelm Kuehs
X-ORIGINAL-URL:https://www.wilhelmkuehs.com
X-WR-CALDESC:Veranstaltungen für Wilhelm Kuehs
REFRESH-INTERVAL;VALUE=DURATION:PT1H
X-Robots-Tag:noindex
X-PUBLISHED-TTL:PT1H
BEGIN:VTIMEZONE
TZID:Europe/Vienna
BEGIN:DAYLIGHT
TZOFFSETFROM:+0100
TZOFFSETTO:+0200
TZNAME:CEST
DTSTART:20160327T010000
END:DAYLIGHT
BEGIN:STANDARD
TZOFFSETFROM:+0200
TZOFFSETTO:+0100
TZNAME:CET
DTSTART:20161030T010000
END:STANDARD
BEGIN:DAYLIGHT
TZOFFSETFROM:+0100
TZOFFSETTO:+0200
TZNAME:CEST
DTSTART:20170326T010000
END:DAYLIGHT
BEGIN:STANDARD
TZOFFSETFROM:+0200
TZOFFSETTO:+0100
TZNAME:CET
DTSTART:20171029T010000
END:STANDARD
BEGIN:DAYLIGHT
TZOFFSETFROM:+0100
TZOFFSETTO:+0200
TZNAME:CEST
DTSTART:20180325T010000
END:DAYLIGHT
BEGIN:STANDARD
TZOFFSETFROM:+0200
TZOFFSETTO:+0100
TZNAME:CET
DTSTART:20181028T010000
END:STANDARD
END:VTIMEZONE
BEGIN:VEVENT
DTSTART;VALUE=DATE:20171025
DTEND;VALUE=DATE:20171030
DTSTAMP:20260424T103848
CREATED:20170928T102827Z
LAST-MODIFIED:20180424T224750Z
UID:541-1508889600-1509321599@www.wilhelmkuehs.com
SUMMARY:62. Internationale Belgrader Buchmesse 22. - 29. Oktober 2017
DESCRIPTION:Auf der Belgrader Buchmesse wird die Übersetzung von „Dianas Liste“\, die im Verlag Samizdat B92 erscheint\,  präsentiert. Wilhelm Kuehs ist vom 25. bis 29. Oktober auf der Messe zu Besuch.
URL:https://www.wilhelmkuehs.com/index.php/event/62-internationale-belgrader-buchmesse-22-29-oktober-2017/
LOCATION:Belgrader Buchmesse\, Bulevar Vojvode Mišica 14\, Belgrad\, 11000\, Serbien
END:VEVENT
END:VCALENDAR